BEGIN:VCALENDAR
VERSION:2.0
PRODID:-//Library Market//iCal Export//EN
BEGIN:VEVENT
SUMMARY:Summer Discovery Labs
UID:14259
DTSTAMP:20260423T171700Z
DTSTART:20260723T200000Z
DTEND:20260723T220000Z
LOCATION:Sedro-Woolley Library, 110 W State Street, Sedro-Woolley, WA 9828
 4, United States
ROOM: Large Community Room
DESCRIPTION:Explore, create, and solve your way through summer at the libr
 ary! Summer Discovery Lab is a hands-on program filled with interactive fu
 n, from “Case of the Stolen Plant” escape room to plant swaps, garden
 -in-a-jar creations, beeswax candle decorating, and more. 
URL:https://centralskagit.librarycalendar.com/event/summer-discovery-labs-
 14259
END:VEVENT
END:VCALENDAR
